BEGIN:VCALENDAR
VERSION:2.0
PRODID:spatie/icalendar-generator
DESCRIPTION:Évènements de Ecole des Beaux Métiers
X-WR-CALDESC:Évènements de Ecole des Beaux Métiers
REFRESH-INTERVAL;VALUE=DURATION:PT1440M
X-PUBLISHED-TTL:PT1440M
BEGIN:VTIMEZONE
TZID:Europe/Paris
BEGIN:STANDARD
DTSTART:20251026T030000Z
TZOFFSETFROM:+0200
TZOFFSETTO:+0100
END:STANDARD
BEGIN:DAYLIGHT
DTSTART:20260329T020000Z
TZOFFSETFROM:+0100
TZOFFSETTO:+0200
END:DAYLIGHT
END:VTIMEZONE
BEGIN:VTIMEZONE
TZID:UTC
BEGIN:STANDARD
DTSTART:20250726T122407Z
TZOFFSETFROM:+0000
TZOFFSETTO:+0000
END:STANDARD
END:VTIMEZONE
BEGIN:VEVENT
UID:199-193
DTSTAMP:20260422T122407Z
SUMMARY:Cours en distanciel
LOCATION:
ORGANIZER;CN=admin1596:MAILTO:cedricdexet@protonmail.com
DTSTART;TZID=Europe/Paris;VALUE=DATE:20260331
DTEND;TZID=Europe/Paris;VALUE=DATE:20260401
X-ALT-DESC;FMTTYPE=TEXT/HTML:
CATEGORIES:Cours en Distanciel
URL;VALUE=URI:https://ecoledesbeauxmetiers.fr/my-calendar/?mc_id=199&#038;v
 cal=199
METHOD:PUBLISH
END:VEVENT
END:VCALENDAR